BEGIN:VCALENDAR
PRODID:-//Ben Fortuna//iCal4j 1.0//EN
VERSION:2.0
CALSCALE:GREGORIAN
BEGIN:VTIMEZONE
TZID:Europe/Berlin
LAST-MODIFIED:20201010T011803Z
TZURL:http://tzurl.org/zoneinfo/Europe/Berlin
X-LIC-LOCATION:Europe/Berlin
X-PROLEPTIC-TZNAME:LMT
BEGIN:STANDARD
TZNAME:CET
TZOFFSETFROM:+005328
TZOFFSETTO:+0100
DTSTART:18930401T000000
END:STANDARD
BEGIN:DAYLIGHT
TZNAME:CEST
TZOFFSETFROM:+0100
TZOFFSETTO:+0200
DTSTART:19160430T230000
RDATE:19400401T020000
RDATE:19430329T020000
RDATE:19460414T020000
RDATE:19470406T030000
RDATE:19480418T020000
RDATE:19490410T020000
RDATE:19800406T020000
END:DAYLIGHT
BEGIN:STANDARD
TZNAME:CET
TZOFFSETFROM:+0200
TZOFFSETTO:+0100
DTSTART:19161001T010000
RDATE:19421102T030000
RDATE:19431004T030000
RDATE:19441002T030000
RDATE:19451118T030000
RDATE:19461007T030000
END:STANDARD
BEGIN:DAYLIGHT
TZNAME:CEST
TZOFFSETFROM:+0100
TZOFFSETTO:+0200
DTSTART:19170416T020000
RRULE:FREQ=YEARLY;UNTIL=19180415T010000Z;BYMONTH=4;BYDAY=3MO
END:DAYLIGHT
BEGIN:STANDARD
TZNAME:CET
TZOFFSETFROM:+0200
TZOFFSETTO:+0100
DTSTART:19170917T030000
RRULE:FREQ=YEARLY;UNTIL=19180916T010000Z;BYMONTH=9;BYDAY=3MO
END:STANDARD
BEGIN:DAYLIGHT
TZNAME:CEST
TZOFFSETFROM:+0100
TZOFFSETTO:+0200
DTSTART:19440403T020000
RRULE:FREQ=YEARLY;UNTIL=19450402T010000Z;BYMONTH=4;BYDAY=1MO
END:DAYLIGHT
BEGIN:DAYLIGHT
TZNAME:CEMT
TZOFFSETFROM:+0200
TZOFFSETTO:+0300
DTSTART:19450524T020000
RDATE:19470511T030000
END:DAYLIGHT
BEGIN:DAYLIGHT
TZNAME:CEST
TZOFFSETFROM:+0300
TZOFFSETTO:+0200
DTSTART:19450924T030000
RDATE:19470629T030000
END:DAYLIGHT
BEGIN:STANDARD
TZNAME:CET
TZOFFSETFROM:+0100
TZOFFSETTO:+0100
DTSTART:19460101T000000
RDATE:19800101T000000
END:STANDARD
BEGIN:STANDARD
TZNAME:CET
TZOFFSETFROM:+0200
TZOFFSETTO:+0100
DTSTART:19471005T030000
RRULE:FREQ=YEARLY;UNTIL=19491002T010000Z;BYMONTH=10;BYDAY=1SU
END:STANDARD
BEGIN:STANDARD
TZNAME:CET
TZOFFSETFROM:+0200
TZOFFSETTO:+0100
DTSTART:19800928T030000
RRULE:FREQ=YEARLY;UNTIL=19950924T010000Z;BYMONTH=9;BYDAY=-1SU
END:STANDARD
BEGIN:DAYLIGHT
TZNAME:CEST
TZOFFSETFROM:+0100
TZOFFSETTO:+0200
DTSTART:19810329T020000
RRULE:FREQ=YEARLY;BYMONTH=3;BYDAY=-1SU
END:DAYLIGHT
BEGIN:STANDARD
TZNAME:CET
TZOFFSETFROM:+0200
TZOFFSETTO:+0100
DTSTART:19961027T030000
RRULE:FREQ=YEARLY;BYMONTH=10;BYDAY=-1SU
END:STANDARD
END:VTIMEZONE
BEGIN:VEVENT
DTSTAMP:20260420T170810Z
DTSTART;TZID=Europe/Berlin:20260420T190000
DTEND;TZID=Europe/Berlin:20260420T235900
SUMMARY:Von bösen Kindern und (bösen) Erwachsenen Zwei Weltbestseller\, z
 wei Autoren – Geschichte und Geschichten
CREATED:20260414T144114Z
LAST-MODIFIED:20260415T075047Z
DESCRIPTION:Zu bevorstehenden Tag des Buches veranstaltet das Deutsche Fa
 stnachtmuseum\nam Montag\, den 20. April\, 19 Uhr einen heiter-interessa
 nten Literaturabend der vor\nallem zwei Weltbestsellern und ihrer (Vor-)
 Geschichte gewidmet ist: Es geht um\nMax und Moritz und den Struwwelpete
 r\, aber nicht nur. Buschs Geschichte um\nzwei böse Buben\, die 1865 auf
  den Markt kam\, wurde zum Weltbestseller. Zuvor\nhatte Heinrich Hofmann
 s „Struwwelpeter“ die biedermeierliche Idylle aufgeschreckt\nund sollte 
 ebenfalls ein Welterfolg werden. Warum faszinieren diese Geschichten um\
 nböse Kinder und nicht minder böse Erwachsene\, die Hofmanns und vor all
 em\nWilhelm Buschs Werk bevölkern\, bis heute? Hans Driesel versucht in 
 Lesung und\nfreier Rezitation eine Antwort. Das Deutsche Fastnachtmuseum
  verspricht eine\nhöchst amüsante Wiederbegegnung mit unsterblichen Gest
 alten\, von Max und\nMoritz über den Struwwelpeter bis zur frommen Helen
 e. Kartenvorbestellung:\nACHTUNG NEUER TERMIN!!\nMontag\, 20.04.2026\nZu
 m bevorstehenden Tag des Buches\nDeutsches FastnachtMuseum\nBeginn: 19:0
 0 Uhr\n\n\nUm Reservierung wird gebeten unter:\ninfo@deutsches-fastnacht
 museum.de\nTel. 09321 23355\n\n\nZu bevorstehenden Tag des Buches verans
 taltet das Deutsche Fastnachtmuseum\nam Montag\, den 20. April\, 19 Uhr 
 einen heiter-interessanten Literaturabend der vor\nallem zwei Weltbestse
 llern und ihrer (Vor-)Geschichte gewidmet ist: Es geht um\nMax und Morit
 z und den Struwwelpeter\, aber nicht nur. Buschs Geschichte um\nzwei bös
 e Buben\, die 1865 auf den Markt kam\, wurde zum Weltbestseller. Zuvor\n
 hatte Heinrich Hofmanns „Struwwelpeter“ die biedermeierliche Idylle aufg
 eschreckt\nund sollte ebenfalls ein Welterfolg werden. Warum faszinieren
  diese Geschichten um\nböse Kinder und nicht minder böse Erwachsene\, di
 e Hofmanns und vor allem\nWilhelm Buschs Werk bevölkern\, bis heute? Han
 s Driesel versucht in Lesung und\nfreier Rezitation eine Antwort. Das De
 utsche Fastnachtmuseum verspricht eine\nhöchst amüsante Wiederbegegnung 
 mit unsterblichen Gestalten\, von Max und\nMoritz über den Struwwelpeter
  bis zur frommen Helene. Kartenvorbestellung:\nACHTUNG NEUER TERMIN!!\nM
 ontag\, 20.04.2026\nZum bevorstehenden Tag des Buches\nDeutsches Fastnac
 htMuseum\nBeginn: 19:00 Uhr\nEintritt: 12\,00 €\n\nUm Reservierung wird 
 gebeten unter:\ninfo@deutsches-fastnachtmuseum.de\nTel. 09321 23355
LOCATION:Deutsches FastnachtMuseum
X-LOCATION-NAME:Deutsches FastnachtMuseum
X-STREET-ADDRESS:Luitpoldstraße 6-8
X-POSTAL-CODE:97318
X-LOCALITY:Kitzingen
GEO:49.737302;10.160227
ORGANIZER;CN=Deutsche FastnachtAkademie:mailto:info@deutsche-fastnachtaka
 demie.de
X-ORGANIZER-NAME:Deutsche FastnachtAkademie
X-ORGANIZER-EMAIL:info@deutsche-fastnachtakademie.de
X-ORGANIZER-TELEPHONE:+4993212649750
X-ORGANIZER-WEBSITE:https://www.deutsche-fastnachtakademie.de/
X-ORGANIZER-ADDRESS-POSTALCODE:97318
X-ORGANIZER-ADDRESS-LOCALITY:Kitzingen
X-ORGANIZER-ADDRESS-STREET:Luitpoldstraße 6-8
X-ORGANIZER-GEO:49.7371996\;10.1606056
CONTACT:Romana Wahner
X-CONTACT-GIVEN-NAME:Romana
X-CONTACT-FAMILY-NAME:Wahner
URL:https://deutsches-fastnachtmuseum.byseum.de/de/veranstaltungen
X-IONAS-CATEGORY:Kultur & Bühne
CATEGORIES:Kultur & Bühne,Vortrag
ATTACH;FMTTYPE=image/jpeg;X-COPYRIGHT=Carolin Christoph:https://www.stadt
 -kitzingen.de/:translation/en/stadt-kitzingen/startseite/kalender/verans
 taltungen/2026/fastnachtmuseum-fastnachtakademie/2026-04-20-von-boesen-k
 indern-und-boesen-erwachsenen-zwei-weltbestseller-zwei-autoren-geschicht
 e-und-geschichten/hans-drisel-fotografin-carolin-christoph.jpg?cid=5e7.1
 o4y
UID:67e6b6bd-f0c2-4eec-915c-45e21933b426
X-PRICE:11\,99 €
END:VEVENT
END:VCALENDAR
