BEGIN:VCALENDAR
PRODID:-//Ben Fortuna//iCal4j 1.0//EN
VERSION:2.0
CALSCALE:GREGORIAN
BEGIN:VTIMEZONE
TZID:Europe/Berlin
LAST-MODIFIED:20201010T011803Z
TZURL:http://tzurl.org/zoneinfo/Europe/Berlin
X-LIC-LOCATION:Europe/Berlin
X-PROLEPTIC-TZNAME:LMT
BEGIN:STANDARD
TZNAME:CET
TZOFFSETFROM:+005328
TZOFFSETTO:+0100
DTSTART:18930401T000000
END:STANDARD
BEGIN:DAYLIGHT
TZNAME:CEST
TZOFFSETFROM:+0100
TZOFFSETTO:+0200
DTSTART:19160430T230000
RDATE:19400401T020000
RDATE:19430329T020000
RDATE:19460414T020000
RDATE:19470406T030000
RDATE:19480418T020000
RDATE:19490410T020000
RDATE:19800406T020000
END:DAYLIGHT
BEGIN:STANDARD
TZNAME:CET
TZOFFSETFROM:+0200
TZOFFSETTO:+0100
DTSTART:19161001T010000
RDATE:19421102T030000
RDATE:19431004T030000
RDATE:19441002T030000
RDATE:19451118T030000
RDATE:19461007T030000
END:STANDARD
BEGIN:DAYLIGHT
TZNAME:CEST
TZOFFSETFROM:+0100
TZOFFSETTO:+0200
DTSTART:19170416T020000
RRULE:FREQ=YEARLY;UNTIL=19180415T010000Z;BYMONTH=4;BYDAY=3MO
END:DAYLIGHT
BEGIN:STANDARD
TZNAME:CET
TZOFFSETFROM:+0200
TZOFFSETTO:+0100
DTSTART:19170917T030000
RRULE:FREQ=YEARLY;UNTIL=19180916T010000Z;BYMONTH=9;BYDAY=3MO
END:STANDARD
BEGIN:DAYLIGHT
TZNAME:CEST
TZOFFSETFROM:+0100
TZOFFSETTO:+0200
DTSTART:19440403T020000
RRULE:FREQ=YEARLY;UNTIL=19450402T010000Z;BYMONTH=4;BYDAY=1MO
END:DAYLIGHT
BEGIN:DAYLIGHT
TZNAME:CEMT
TZOFFSETFROM:+0200
TZOFFSETTO:+0300
DTSTART:19450524T020000
RDATE:19470511T030000
END:DAYLIGHT
BEGIN:DAYLIGHT
TZNAME:CEST
TZOFFSETFROM:+0300
TZOFFSETTO:+0200
DTSTART:19450924T030000
RDATE:19470629T030000
END:DAYLIGHT
BEGIN:STANDARD
TZNAME:CET
TZOFFSETFROM:+0100
TZOFFSETTO:+0100
DTSTART:19460101T000000
RDATE:19800101T000000
END:STANDARD
BEGIN:STANDARD
TZNAME:CET
TZOFFSETFROM:+0200
TZOFFSETTO:+0100
DTSTART:19471005T030000
RRULE:FREQ=YEARLY;UNTIL=19491002T010000Z;BYMONTH=10;BYDAY=1SU
END:STANDARD
BEGIN:STANDARD
TZNAME:CET
TZOFFSETFROM:+0200
TZOFFSETTO:+0100
DTSTART:19800928T030000
RRULE:FREQ=YEARLY;UNTIL=19950924T010000Z;BYMONTH=9;BYDAY=-1SU
END:STANDARD
BEGIN:DAYLIGHT
TZNAME:CEST
TZOFFSETFROM:+0100
TZOFFSETTO:+0200
DTSTART:19810329T020000
RRULE:FREQ=YEARLY;BYMONTH=3;BYDAY=-1SU
END:DAYLIGHT
BEGIN:STANDARD
TZNAME:CET
TZOFFSETFROM:+0200
TZOFFSETTO:+0100
DTSTART:19961027T030000
RRULE:FREQ=YEARLY;BYMONTH=10;BYDAY=-1SU
END:STANDARD
END:VTIMEZONE
BEGIN:VEVENT
DTSTAMP:20260424T160313Z
DTSTART;TZID=Europe/Berlin:20260424T180000
DTEND;TZID=Europe/Berlin:20260424T200000
SUMMARY:Bühne frei für junge Künstler
CREATED:20260327T065617Z
LAST-MODIFIED:20260327T100217Z
DESCRIPTION:Musikschulkonzert lädt zum Entdecken musikalischer Talente ei
 n.\n\nUnter dem Titel „Bühne frei für junge Künstler“ lädt die Musikschu
 le der Stadt Kitzingen am Freitag\, 24. April 2026 um 18.00 Uhr ins Kult
 urhaus Alte Synagoge zu einem besonderen Konzertabend ein.\n\nJunge Musi
 kerinnen und Musiker präsentieren ihr Können und zeigen\, was sie im Unt
 erricht mit viel Engagement und Leidenschaft erarbeitet haben.\n\nDas ab
 wechslungsreiche Programm reicht von klassischen Werken bis hin zu moder
 nen Stücken und es sind sowohl Solisten als auch Ensembles zu hören\, di
 e wertvolle Bühnenerfahrung vor wohlwollendem Publikum sammeln werden.\n
 \nDas Konzert bietet dabei nicht nur den jungen Künstlerinnen und Künstl
 ern eine Plattform\, sondern auch dem Publikum die Gelegenheit\, musikal
 ische Vielfalt und vielversprechende Nachwuchstalente live zu erleben.\n
 \nDie Musikschule freut sich auf zahlreiche Besucher und einen inspirier
 enden Konzertabend.\n\nDer Eintritt ist frei.
LOCATION:Kulturhaus Alte Synagoge
X-LOCATION-NAME:Kulturhaus Alte Synagoge
X-STREET-ADDRESS:Landwehrstraße 1
X-POSTAL-CODE:97318
X-LOCALITY:Kitzingen
GEO:49.7367716;10.1648539
ORGANIZER;CN=Musikschule der Stadt Kitzingen:mailto:musikschule@stadt-kit
 zingen.de
X-ORGANIZER-NAME:Musikschule der Stadt Kitzingen
X-ORGANIZER-EMAIL:musikschule@stadt-kitzingen.de
X-ORGANIZER-TELEPHONE:+499321201940
X-ORGANIZER-WEBSITE:https://musikschule-kitzingen.de/
X-ORGANIZER-ADDRESS-POSTALCODE:97318
X-ORGANIZER-ADDRESS-LOCALITY:Kitzingen
X-ORGANIZER-ADDRESS-STREET:Innere Sulzfelder Straße 23
X-ORGANIZER-GEO:49.732758\;10.158067
URL:https://musikschule-kitzingen.de/
X-IONAS-CATEGORY:Kultur & Bühne
CATEGORIES:Kultur & Bühne,Musikschule Stadt Kitzingen
ATTACH;FMTTYPE=image/jpeg;X-COPYRIGHT=Ingrid Guckenberger:https://www.sta
 dt-kitzingen.de/kalender/veranstaltungen/2026/musikschule/2026-04-24-bue
 hne-frei-fuer-junge-kuenstler/jg.-geigenschuelerin-mit-klavierbegl.jpg?c
 id=58y.1lfg
UID:cb6458da-eeaa-4069-aa16-528345aa45a6
X-PRICE:Frei
END:VEVENT
END:VCALENDAR
