BEGIN:VCALENDAR
PRODID:-//IONAS//TVM//DE
VERSION:2.0
CALSCALE:GREGORIAN
BEGIN:VTIMEZONE
TZID:Europe/Berlin
LAST-MODIFIED:20201010T011803Z
TZURL:http://tzurl.org/zoneinfo/Europe/Berlin
X-LIC-LOCATION:Europe/Berlin
X-PROLEPTIC-TZNAME:LMT
BEGIN:STANDARD
TZNAME:CET
TZOFFSETFROM:+005328
TZOFFSETTO:+0100
DTSTART:18930401T000000
END:STANDARD
BEGIN:DAYLIGHT
TZNAME:CEST
TZOFFSETFROM:+0100
TZOFFSETTO:+0200
DTSTART:19160430T230000
RDATE:19400401T020000
RDATE:19430329T020000
RDATE:19460414T020000
RDATE:19470406T030000
RDATE:19480418T020000
RDATE:19490410T020000
RDATE:19800406T020000
END:DAYLIGHT
BEGIN:STANDARD
TZNAME:CET
TZOFFSETFROM:+0200
TZOFFSETTO:+0100
DTSTART:19161001T010000
RDATE:19421102T030000
RDATE:19431004T030000
RDATE:19441002T030000
RDATE:19451118T030000
RDATE:19461007T030000
END:STANDARD
BEGIN:DAYLIGHT
TZNAME:CEST
TZOFFSETFROM:+0100
TZOFFSETTO:+0200
DTSTART:19170416T020000
RRULE:FREQ=YEARLY;UNTIL=19180415T010000Z;BYMONTH=4;BYDAY=3MO
END:DAYLIGHT
BEGIN:STANDARD
TZNAME:CET
TZOFFSETFROM:+0200
TZOFFSETTO:+0100
DTSTART:19170917T030000
RRULE:FREQ=YEARLY;UNTIL=19180916T010000Z;BYMONTH=9;BYDAY=3MO
END:STANDARD
BEGIN:DAYLIGHT
TZNAME:CEST
TZOFFSETFROM:+0100
TZOFFSETTO:+0200
DTSTART:19440403T020000
RRULE:FREQ=YEARLY;UNTIL=19450402T010000Z;BYMONTH=4;BYDAY=1MO
END:DAYLIGHT
BEGIN:DAYLIGHT
TZNAME:CEMT
TZOFFSETFROM:+0200
TZOFFSETTO:+0300
DTSTART:19450524T020000
RDATE:19470511T030000
END:DAYLIGHT
BEGIN:DAYLIGHT
TZNAME:CEST
TZOFFSETFROM:+0300
TZOFFSETTO:+0200
DTSTART:19450924T030000
RDATE:19470629T030000
END:DAYLIGHT
BEGIN:STANDARD
TZNAME:CET
TZOFFSETFROM:+0100
TZOFFSETTO:+0100
DTSTART:19460101T000000
RDATE:19800101T000000
END:STANDARD
BEGIN:STANDARD
TZNAME:CET
TZOFFSETFROM:+0200
TZOFFSETTO:+0100
DTSTART:19471005T030000
RRULE:FREQ=YEARLY;UNTIL=19491002T010000Z;BYMONTH=10;BYDAY=1SU
END:STANDARD
BEGIN:STANDARD
TZNAME:CET
TZOFFSETFROM:+0200
TZOFFSETTO:+0100
DTSTART:19800928T030000
RRULE:FREQ=YEARLY;UNTIL=19950924T010000Z;BYMONTH=9;BYDAY=-1SU
END:STANDARD
BEGIN:DAYLIGHT
TZNAME:CEST
TZOFFSETFROM:+0100
TZOFFSETTO:+0200
DTSTART:19810329T020000
RRULE:FREQ=YEARLY;BYMONTH=3;BYDAY=-1SU
END:DAYLIGHT
BEGIN:STANDARD
TZNAME:CET
TZOFFSETFROM:+0200
TZOFFSETTO:+0100
DTSTART:19961027T030000
RRULE:FREQ=YEARLY;BYMONTH=10;BYDAY=-1SU
END:STANDARD
END:VTIMEZONE
BEGIN:VEVENT
DTSTAMP:20260425T151334Z
DTSTART;TZID=Europe/Berlin:20260425T170000
DTEND;TZID=Europe/Berlin:20260425T180000
SUMMARY:Jorinde und Joringel
CREATED:20260306T094124Z
LAST-MODIFIED:20260316T073951Z
DESCRIPTION:Das recht kurze Grimm'sche Märchen wird von Gabriele Brunsch 
 ganz neu und wundersam erzählt. Hineingesetzt in eine fränkische Fantasi
 elandschaft mit Laubwald und weichen Farben\, wird man verführt zu glaub
 en\, dass die Welt gut und schön sei. Doch gleich wird man gewahr\, dass
  hier in diesem Gebiet die Menschen seit Hunderten von Jahren immer wied
 er von dunklen Schatten heimgesucht werden und man ahnt\, dass es etwas 
 mit dem hoch oben im Wald stehenden Schloss zu tun haben könnte. Dort wo
 hnt eine Zauberin\, die über unendlich böse Kräfte verfügt.\nSie verzaub
 ert alle Jungfrauen\, die auf hundert Schritt nahe ans Schloss kommen\, 
 in einen Vogel. Diesen sperrt sie in einen Käfig.\n\n\n\nNiemand war je 
 ihrem Machtbereich entkommen. Ob es Joringel gelingt seine Jorinde aus d
 en Fängen der Zauberin zu befreien?\n\nDie großartige musikalische Umrah
 mung der Handlung wurde von Harfenistin Julia Rosenberger mit eigenen Ko
 mpositionen und Klangeffekten gestaltet.\n\n12 Akte mit über 50 Akteuren
  - 45 min - ab 8 Jahren
LOCATION:Papiertheater
X-LOCATION-NAME:Papiertheater
X-STREET-ADDRESS:Grabkirchgasse 4
X-POSTAL-CODE:97318
X-LOCALITY:Kitzingen
GEO:49.738559;10.1623521
X-ORGANIZER-NAME:Papiertheater Kitzingen
X-ORGANIZER-WEBSITE:https://www.papiertheater-kitzingen.de/
X-ORGANIZER-ADDRESS-POSTALCODE:97318
X-ORGANIZER-ADDRESS-LOCALITY:Kitzingen
X-ORGANIZER-ADDRESS-STREET:Grabkirchgasse 4
X-ORGANIZER-GEO:49.738559\;10.1623521
CONTACT:Gabriele Brunsch\,gabriele.brunsch@t-online.de\,+4993328692
X-CONTACT-GIVEN-NAME:Gabriele
X-CONTACT-FAMILY-NAME:Brunsch
X-CONTACT-EMAIL:gabriele.brunsch@t-online.de
X-CONTACT-TELEPHONE:+4993328692
URL:https://www.papiertheater-kitzingen.de/contact
X-IONAS-CATEGORY:Familie & Kinder
CATEGORIES:Familie & Kinder,Papiertheater
ATTACH;FMTTYPE=image/jpeg;X-COPYRIGHT=Gabriele Brunsch:https://www.stadt-
 kitzingen.de/kalender/veranstaltungen/2026/papiertheater/2026-03-21-jori
 nde-und-joringel/papiertheater-kitzingen-jorinde-und-joringel.jpg?cid=4n
 v.1cnd
UID:95a93220-a505-4ace-9cb4-211be5cf3ea6:2026-04-25
X-PRICE:Erwachsene: 10 € | Kinder 8 €
END:VEVENT
END:VCALENDAR
