BEGIN:VCALENDAR
PRODID:-//Ben Fortuna//iCal4j 1.0//EN
VERSION:2.0
CALSCALE:GREGORIAN
BEGIN:VTIMEZONE
TZID:Europe/Berlin
LAST-MODIFIED:20201010T011803Z
TZURL:http://tzurl.org/zoneinfo/Europe/Berlin
X-LIC-LOCATION:Europe/Berlin
X-PROLEPTIC-TZNAME:LMT
BEGIN:STANDARD
TZNAME:CET
TZOFFSETFROM:+005328
TZOFFSETTO:+0100
DTSTART:18930401T000000
END:STANDARD
BEGIN:DAYLIGHT
TZNAME:CEST
TZOFFSETFROM:+0100
TZOFFSETTO:+0200
DTSTART:19160430T230000
RDATE:19400401T020000
RDATE:19430329T020000
RDATE:19460414T020000
RDATE:19470406T030000
RDATE:19480418T020000
RDATE:19490410T020000
RDATE:19800406T020000
END:DAYLIGHT
BEGIN:STANDARD
TZNAME:CET
TZOFFSETFROM:+0200
TZOFFSETTO:+0100
DTSTART:19161001T010000
RDATE:19421102T030000
RDATE:19431004T030000
RDATE:19441002T030000
RDATE:19451118T030000
RDATE:19461007T030000
END:STANDARD
BEGIN:DAYLIGHT
TZNAME:CEST
TZOFFSETFROM:+0100
TZOFFSETTO:+0200
DTSTART:19170416T020000
RRULE:FREQ=YEARLY;UNTIL=19180415T010000Z;BYMONTH=4;BYDAY=3MO
END:DAYLIGHT
BEGIN:STANDARD
TZNAME:CET
TZOFFSETFROM:+0200
TZOFFSETTO:+0100
DTSTART:19170917T030000
RRULE:FREQ=YEARLY;UNTIL=19180916T010000Z;BYMONTH=9;BYDAY=3MO
END:STANDARD
BEGIN:DAYLIGHT
TZNAME:CEST
TZOFFSETFROM:+0100
TZOFFSETTO:+0200
DTSTART:19440403T020000
RRULE:FREQ=YEARLY;UNTIL=19450402T010000Z;BYMONTH=4;BYDAY=1MO
END:DAYLIGHT
BEGIN:DAYLIGHT
TZNAME:CEMT
TZOFFSETFROM:+0200
TZOFFSETTO:+0300
DTSTART:19450524T020000
RDATE:19470511T030000
END:DAYLIGHT
BEGIN:DAYLIGHT
TZNAME:CEST
TZOFFSETFROM:+0300
TZOFFSETTO:+0200
DTSTART:19450924T030000
RDATE:19470629T030000
END:DAYLIGHT
BEGIN:STANDARD
TZNAME:CET
TZOFFSETFROM:+0100
TZOFFSETTO:+0100
DTSTART:19460101T000000
RDATE:19800101T000000
END:STANDARD
BEGIN:STANDARD
TZNAME:CET
TZOFFSETFROM:+0200
TZOFFSETTO:+0100
DTSTART:19471005T030000
RRULE:FREQ=YEARLY;UNTIL=19491002T010000Z;BYMONTH=10;BYDAY=1SU
END:STANDARD
BEGIN:STANDARD
TZNAME:CET
TZOFFSETFROM:+0200
TZOFFSETTO:+0100
DTSTART:19800928T030000
RRULE:FREQ=YEARLY;UNTIL=19950924T010000Z;BYMONTH=9;BYDAY=-1SU
END:STANDARD
BEGIN:DAYLIGHT
TZNAME:CEST
TZOFFSETFROM:+0100
TZOFFSETTO:+0200
DTSTART:19810329T020000
RRULE:FREQ=YEARLY;BYMONTH=3;BYDAY=-1SU
END:DAYLIGHT
BEGIN:STANDARD
TZNAME:CET
TZOFFSETFROM:+0200
TZOFFSETTO:+0100
DTSTART:19961027T030000
RRULE:FREQ=YEARLY;BYMONTH=10;BYDAY=-1SU
END:STANDARD
END:VTIMEZONE
BEGIN:VEVENT
DTSTAMP:20260421T140836Z
DTSTART;TZID=Europe/Berlin:20260421T190000
DTEND;TZID=Europe/Berlin:20260421T210000
SUMMARY:Achtung!!! Die Veranstaltung muss leider krankheitsbedingt ausfal
 len! Demokratie\, Populismus und Autokratie in Amerika
CREATED:20260313T110314Z
LAST-MODIFIED:20260420T120326Z
DESCRIPTION:Vortrag mit Diskussion\n„It can’t Happen Here“ – „Das ist bei
  uns nicht möglich“\, ein Roman von Sinclair Lewis aus dem Jahr 1935 erz
 ählt\, wie ein populistischer US-Senator Präsident wird und sich Schritt
  für Schritt als Demagoge entpuppt – eine Warnung\, die viele damals für
  undenkbar hielten. Der Vortrag zeigt\, wie diese und andere Erzählungen
  politische und gesellschaftliche Spannungen aufgreifen\, welche histori
 schen Bezüge sie haben und geht der Frage nach\, ob und was sie uns heut
 e über aktuelle Konflikte und Herausforderungen lehren können.\nDer Vort
 rag ist Teil der Schwerpunktreihe “Demokratie leben” der vhs Kitzingen u
 nd wird gefördert durch das bayerische Staatsministerium für Umwelt und 
 Verbraucherschutz.\n\nReferentin: Prof. Dr. Catrin Gersdorf\, Lehrstuhl 
 für Amerikanistik JMU Würzburg
LOCATION:Kulturhaus Alte Synagoge
X-LOCATION-NAME:Kulturhaus Alte Synagoge
X-STREET-ADDRESS:Landwehrstraße 1
X-POSTAL-CODE:97318
X-LOCALITY:Kitzingen
GEO:49.7367716;10.1648539
ORGANIZER;CN=vhs Kitzingen:mailto:vhs@stadt-kitzingen.de
X-ORGANIZER-NAME:vhs Kitzingen
X-ORGANIZER-EMAIL:vhs@stadt-kitzingen.de
X-ORGANIZER-TELEPHONE:+499321201910
X-ORGANIZER-FAXNUMBER:+499321 201910
X-ORGANIZER-WEBSITE:https://www.vhs.kitzingen.info/
X-ORGANIZER-ADDRESS-POSTALCODE:97318
X-ORGANIZER-ADDRESS-LOCALITY:Kitzingen
X-ORGANIZER-ADDRESS-STREET:Hindenburgring Süd 3
URL:https://www.vhs.kitzingen.info/
X-IONAS-CATEGORY:Bildung & Vorträge
CATEGORIES:Bildung & Vorträge,Vortrag,Kulturhaus Alte Synagoge,vhs Kitzin
 gen
ATTACH;FMTTYPE=image/jpeg;X-COPYRIGHT=vhs Kitzingen:https://www.stadt-kit
 zingen.de/kalender/veranstaltungen/2026/vhs/2026-04-21-achtung-die-veran
 staltung-muss-leider-krankheitsbedingt-ausfallen-demokratie-populismus-u
 nd-autokratie-in-amerika/logo-vhs-neu-2014-neg-rgb.jpg?cid=4oj.1dqs
UID:c3b3f4c5-2010-4959-87d1-77b00f0214ef
X-PRICE:Frei
END:VEVENT
END:VCALENDAR
